BEGIN:VCALENDAR
VERSION:2.0
PRODID:-//Tarım.Gen.TR - ECPv6.15.20//NONSGML v1.0//EN
CALSCALE:GREGORIAN
METHOD:PUBLISH
X-WR-CALNAME:Tarım.Gen.TR
X-ORIGINAL-URL:https://tarim.gen.tr
X-WR-CALDESC:Tarım.Gen.TR için etkinlikler
REFRESH-INTERVAL;VALUE=DURATION:PT1H
X-Robots-Tag:noindex
X-PUBLISHED-TTL:PT1H
BEGIN:VTIMEZONE
TZID:Europe/Moscow
BEGIN:STANDARD
TZOFFSETFROM:+0300
TZOFFSETTO:+0300
TZNAME:MSK
DTSTART:20250101T000000
END:STANDARD
END:VTIMEZONE
BEGIN:VEVENT
DTSTART;TZID=Europe/Moscow:20260403T080000
DTEND;TZID=Europe/Moscow:20260405T170000
DTSTAMP:20260424T213013
CREATED:20260314T224359Z
LAST-MODIFIED:20260314T224359Z
UID:277306-1775203200-1775408400@tarim.gen.tr
SUMMARY:UHK 2026 HASAT ÖNCESİ HUBUBAT KONGRESİ
DESCRIPTION:
URL:https://tarim.gen.tr/event/uhk-2026-hasat-oncesi-hububat-kongresi
CATEGORIES:Kongreler
ATTACH;FMTTYPE=image/jpeg:https://tarim.gen.tr/wp-content/uploads/2026/03/1773517448996.jpeg
END:VEVENT
END:VCALENDAR