BEGIN:VCALENDAR
VERSION:2.0
PRODID:-//Tarım.Gen.TR - ECPv6.15.20//NONSGML v1.0//EN
CALSCALE:GREGORIAN
METHOD:PUBLISH
X-ORIGINAL-URL:https://tarim.gen.tr
X-WR-CALDESC:Tarım.Gen.TR için etkinlikler
REFRESH-INTERVAL;VALUE=DURATION:PT1H
X-Robots-Tag:noindex
X-PUBLISHED-TTL:PT1H
BEGIN:VTIMEZONE
TZID:Europe/Moscow
BEGIN:STANDARD
TZOFFSETFROM:+0300
TZOFFSETTO:+0300
TZNAME:MSK
DTSTART:20250101T000000
END:STANDARD
END:VTIMEZONE
BEGIN:VEVENT
DTSTART;VALUE=DATE:20260409
DTEND;VALUE=DATE:20260413
DTSTAMP:20260424T213319
CREATED:20260107T184226Z
LAST-MODIFIED:20260107T184226Z
UID:269040-1775692800-1776038399@tarim.gen.tr
SUMMARY:5. Uluslararası Gıda Kimyası Kongresi
DESCRIPTION:
URL:https://tarim.gen.tr/event/5-uluslararasi-gida-kimyasi-kongresi
CATEGORIES:Kongreler
ATTACH;FMTTYPE=image/jpeg:https://tarim.gen.tr/wp-content/uploads/2026/01/1767773260485.jpeg
END:VEVENT
END:VCALENDAR