BEGIN:VCALENDAR
VERSION:2.0
PRODID:-//Tarım.Gen.TR - ECPv6.15.20//NONSGML v1.0//EN
CALSCALE:GREGORIAN
METHOD:PUBLISH
X-WR-CALNAME:Tarım.Gen.TR
X-ORIGINAL-URL:https://tarim.gen.tr
X-WR-CALDESC:Tarım.Gen.TR için etkinlikler
REFRESH-INTERVAL;VALUE=DURATION:PT1H
X-Robots-Tag:noindex
X-PUBLISHED-TTL:PT1H
BEGIN:VTIMEZONE
TZID:Europe/Moscow
BEGIN:STANDARD
TZOFFSETFROM:+0300
TZOFFSETTO:+0300
TZNAME:MSK
DTSTART:20250101T000000
END:STANDARD
END:VTIMEZONE
BEGIN:VEVENT
DTSTART;VALUE=DATE:20260514
DTEND;VALUE=DATE:20260516
DTSTAMP:20260424T224212
CREATED:20260108T131215Z
LAST-MODIFIED:20260108T131215Z
UID:269133-1778716800-1778889599@tarim.gen.tr
SUMMARY:15. Gıda Mühendisliği Öğrenci Kongresi
DESCRIPTION:🎓 15. Gıda Mühendisliği Öğrenci Kongresi Kayıtları Başladı!\n📅 14–15 Mayıs 2026\n📍 Tekirdağ Namık Kemal Üniversitesi\n🔗 Kayıt ve detaylar: https://lnkd.in/dm6xpM3s\nGıda bilimi ve mühendisliği alanında gelenek haline gelen Gıda Mühendisliği Öğrenci Kongresi’nin 15’incisine sizleri davet etmekten büyük mutluluk duyuyoruz.\n🎁 Öğrenciler ve akademisyenler için katılım tamamen ücretsizdir.\n(Kayıt oluşturmanız yeterlidir.) \nBu yılın teması:\n👉 “Sağlıklı Yaşam ve Gıda: Fonksiyonel Gıdalar”\nKongremiz; genç araştırmacıların bilimsel çalışmalarını paylaşmalarına\, sektör ve akademinin bir araya gelmesine ve güncel gelişmelerin tartışılmasına olanak sağlayan güçlü bir bilimsel platformdur.\n📢 Bilimsel sunumlarıyla yer almak\, dinleyici olarak katılmak veya sektörü yakından takip etmek isteyen tüm öğrenci ve akademisyenleri bekliyoruz.\nSizleri aramızda görmekten büyük mutluluk duyarız.\n🔗 Hemen kayıt olun: https://lnkd.in/dm6xpM3s
URL:https://tarim.gen.tr/event/15-gida-muhendisligi-ogrenci-kongresi
LOCATION:Tekirdağ Namık Kemal Üniversitesi\, Tekirdağ\, Turkey
CATEGORIES:Kongreler
ATTACH;FMTTYPE=image/jpeg:https://tarim.gen.tr/wp-content/uploads/2026/01/1767814074524.jpg
END:VEVENT
END:VCALENDAR